BEGIN:VCALENDAR
VERSION:2.0
PRODID:-//Noah&#039;s Bandage Project - ECPv6.15.20//NONSGML v1.0//EN
CALSCALE:GREGORIAN
METHOD:PUBLISH
X-ORIGINAL-URL:https://noahsbandageproject.com
X-WR-CALDESC:Events for Noah&#039;s Bandage Project
REFRESH-INTERVAL;VALUE=DURATION:PT1H
X-Robots-Tag:noindex
X-PUBLISHED-TTL:PT1H
BEGIN:VTIMEZONE
TZID:UTC
BEGIN:STANDARD
TZOFFSETFROM:+0000
TZOFFSETTO:+0000
TZNAME:UTC
DTSTART:20240101T000000
END:STANDARD
END:VTIMEZONE
BEGIN:VEVENT
DTSTART;TZID=UTC:20250406T080000
DTEND;TZID=UTC:20250406T100000
DTSTAMP:20260423T160651
CREATED:20250110T223616Z
LAST-MODIFIED:20250110T224244Z
UID:1393-1743926400-1743933600@noahsbandageproject.com
SUMMARY:10th Annual Noah's Bandage Run
DESCRIPTION:
URL:https://noahsbandageproject.com/event/10th-annual-noahs-bandage-run/
LOCATION:Corporate Woods\, 9401 Indian Creek Parkway\, Building 40\, Overland Park\, KS\, 66210\, United States
ATTACH;FMTTYPE=image/jpeg:https://noahsbandageproject.com/wp-content/uploads/2025/01/nbd-0003.jpg
END:VEVENT
END:VCALENDAR